BEGIN:VCALENDAR
VERSION:2.0
PRODID:-//wp-events-plugin.com//7.2.3.1//EN
TZID:Europe/Berlin
X-WR-TIMEZONE:Europe/Berlin
BEGIN:VEVENT
UID:15838@kirche-boeckingen-klingenberg.de
DTSTART:20230506T080000Z
DTEND:20230507T180000Z
DTSTAMP:20230417T065053Z
URL:https://kirche-boeckingen-klingenberg.de/events/ausgebucht-fzk-12
SUMMARY:ausgebucht: FZK
DESCRIPTION:
CATEGORIES:alle Räume,Familienzentrum Kreuzgrund,Raumkalender
LOCATION:Familienzentrum Kreuzgrund\, Holunderweg 57\, Heilbronn-Böckingen
 \, 74080\, Deutschland
X-APPLE-STRUCTURED-LOCATION;VALUE=URI;X-ADDRESS=Holunderweg 57\, Heilbronn-
 Böckingen\, 74080\, Deutschland;X-APPLE-RADIUS=100;X-TITLE=Familienzentru
 m Kreuzgrund:geo:0,0
END:VEVENT
END:VCALENDAR