BEGIN:VCALENDAR
VERSION:2.0
PRODID:-//wp-events-plugin.com//7.2.3.1//EN
TZID:Europe/Berlin
X-WR-TIMEZONE:Europe/Berlin
BEGIN:VEVENT
UID:19707@kirche-boeckingen-klingenberg.de
DTSTART:20260626T163000Z
DTEND:20260626T180000Z
DTSTAMP:20251022T070631Z
URL:https://kirche-boeckingen-klingenberg.de/events/ausgebucht-fzk-11-2026
 -06-12-2026-06-19-2026-06-26
SUMMARY:ausgebucht: FZK
DESCRIPTION:
CATEGORIES:Familienzentrum Kreuzgrund,Großer Saal,Raumkalender
LOCATION:Familienzentrum Kreuzgrund\, Holunderweg 57\, Heilbronn-Böckingen
 \, 74080\, Deutschland
X-APPLE-STRUCTURED-LOCATION;VALUE=URI;X-ADDRESS=Holunderweg 57\, Heilbronn-
 Böckingen\, 74080\, Deutschland;X-APPLE-RADIUS=100;X-TITLE=Familienzentru
 m Kreuzgrund:geo:0,0
END:VEVENT
END:VCALENDAR