BEGIN:VCALENDAR
VERSION:2.0
PRODID:-//wp-events-plugin.com//7.2.3.1//EN
TZID:Europe/Berlin
X-WR-TIMEZONE:Europe/Berlin
BEGIN:VEVENT
UID:16852@kirche-boeckingen-klingenberg.de
DTSTART:20231005T193000Z
DTEND:20231005T220000Z
DTSTAMP:20230926T082432Z
URL:https://kirche-boeckingen-klingenberg.de/events/ausgebucht-ak-kl-saal
SUMMARY:ausgebucht: AK/kl. Saal
DESCRIPTION:
CATEGORIES:Auferstehungskirche,Kleiner Saal UG,Raumkalender
LOCATION:Auferstehungskirche\, Sonnenbergstraße 19\, Heilbronn-Böckingen\
 , 74080\, Deutschland
X-APPLE-STRUCTURED-LOCATION;VALUE=URI;X-ADDRESS=Sonnenbergstraße 19\, Heil
 bronn-Böckingen\, 74080\, Deutschland;X-APPLE-RADIUS=100;X-TITLE=Auferste
 hungskirche:geo:0,0
END:VEVENT
END:VCALENDAR