BEGIN:VCALENDAR
VERSION:2.0
PRODID:-//wp-events-plugin.com//7.2.3.1//EN
TZID:Europe/Berlin
X-WR-TIMEZONE:Europe/Berlin
BEGIN:VEVENT
UID:19565@kirche-boeckingen-klingenberg.de
DTSTART:20260226T190000Z
DTEND:20260226T210000Z
DTSTAMP:20250930T071202Z
URL:https://kirche-boeckingen-klingenberg.de/events/ausgebucht-ak-gemeinde
 saal-eg-8
SUMMARY:ausgebucht: AK/Gemeindesaal EG
DESCRIPTION:
CATEGORIES:Auferstehungskirche,Gemeindesaal EG,Raumkalender
LOCATION:Auferstehungskirche\, Sonnenbergstraße 19\, Heilbronn-Böckingen\
 , 74080\, Deutschland
X-APPLE-STRUCTURED-LOCATION;VALUE=URI;X-ADDRESS=Sonnenbergstraße 19\, Heil
 bronn-Böckingen\, 74080\, Deutschland;X-APPLE-RADIUS=100;X-TITLE=Auferste
 hungskirche:geo:0,0
END:VEVENT
END:VCALENDAR