BEGIN:VCALENDAR
VERSION:2.0
PRODID:-//wp-events-plugin.com//7.2.3.1//EN
TZID:Europe/Berlin
X-WR-TIMEZONE:Europe/Berlin
BEGIN:VEVENT
UID:15837@kirche-boeckingen-klingenberg.de
DTSTART:20230414T190000Z
DTEND:20230414T200000Z
DTSTAMP:20230411T082010Z
URL:https://kirche-boeckingen-klingenberg.de/events/auffuehrung-der-musica
 l-freizeit
SUMMARY:Aufführung der Musical-Freizeit
DESCRIPTION:
CATEGORIES:Familienzentrum Kreuzgrund,Raumkalender
LOCATION:Familienzentrum Kreuzgrund\, Holunderweg 57\, Heilbronn-Böckingen
 \, 74080\, Deutschland
X-APPLE-STRUCTURED-LOCATION;VALUE=URI;X-ADDRESS=Holunderweg 57\, Heilbronn-
 Böckingen\, 74080\, Deutschland;X-APPLE-RADIUS=100;X-TITLE=Familienzentru
 m Kreuzgrund:geo:0,0
END:VEVENT
END:VCALENDAR