BEGIN:VCALENDAR
VERSION:2.0
PRODID:-//wp-events-plugin.com//7.2.3.1//EN
TZID:Europe/Berlin
X-WR-TIMEZONE:Europe/Berlin
BEGIN:VEVENT
UID:19532@kirche-boeckingen-klingenberg.de
DTSTART:20251123T143000Z
DTEND:20251123T153000Z
DTSTAMP:20250819T120211Z
URL:https://kirche-boeckingen-klingenberg.de/events/andacht-friedhof-heide
 lberger-strasse-pfarrer-dr-rexer
SUMMARY:Andacht Friedhof Heidelberger Straße - Pfarrer Dr. Rexer
DESCRIPTION:mit dem Singkreis Kreuzgrund aktiv und der Musikvereinigung
CATEGORIES:Angebote,Gottesdienste
LOCATION:Friedhof Böckingen (Heidelberger Straße)\, Heidelberger Straße\
 , Heilbronn-Böckingen\, 74080\, Deutschland
X-APPLE-STRUCTURED-LOCATION;VALUE=URI;X-ADDRESS=Heidelberger Straße\, Heil
 bronn-Böckingen\, 74080\, Deutschland;X-APPLE-RADIUS=100;X-TITLE=Friedhof
  Böckingen (Heidelberger Straße):geo:0,0
END:VEVENT
END:VCALENDAR