BEGIN:VCALENDAR
VERSION:2.0
PRODID:-//wp-events-plugin.com//7.2.3.1//EN
TZID:Europe/Berlin
X-WR-TIMEZONE:Europe/Berlin
BEGIN:VEVENT
UID:19533@kirche-boeckingen-klingenberg.de
DTSTART:20251123T143000Z
DTEND:20251123T153000Z
DTSTAMP:20250819T120053Z
URL:https://kirche-boeckingen-klingenberg.de/events/andacht-auf-dem-westfr
 iedhof-pfarrer-stadler
SUMMARY:Andacht auf dem Westfriedhof - Pfarrer Stadler
DESCRIPTION:mit dem Posaunenchor und dem Männerchor der Geselligkeit
CATEGORIES:Angebote,Gottesdienste
LOCATION:Westfriedhof Böckingen\, Neipperger Straße 120\, Heilbronn-Böck
 ingen\, 74080\, Deutschland
X-APPLE-STRUCTURED-LOCATION;VALUE=URI;X-ADDRESS=Neipperger Straße 120\, He
 ilbronn-Böckingen\, 74080\, Deutschland;X-APPLE-RADIUS=100;X-TITLE=Westfr
 iedhof Böckingen:geo:0,0
END:VEVENT
END:VCALENDAR