BEGIN:VCALENDAR
VERSION:2.0
PRODID:-//wp-events-plugin.com//7.2.3.1//EN
TZID:Europe/Berlin
X-WR-TIMEZONE:Europe/Berlin
BEGIN:VEVENT
UID:19560@kirche-boeckingen-klingenberg.de
DTSTART:20251224T170000Z
DTEND:20251224T180000Z
DTSTAMP:20250919T114134Z
URL:https://kirche-boeckingen-klingenberg.de/events/andacht-an-heilig-aben
 d-auf-dem-friedhof-heidelberger-strasse-pfarrer-i-r-dr-moessinger
SUMMARY:Andacht an Heilig Abend auf dem Friedhof Heidelberger Straße - Pfa
 rrer i. R. Dr. Mössinger
DESCRIPTION:
CATEGORIES:Angebote,Gottesdienste
LOCATION:Friedhof Böckingen (Heidelberger Straße)\, Heidelberger Straße\
 , Heilbronn-Böckingen\, 74080\, Deutschland
X-APPLE-STRUCTURED-LOCATION;VALUE=URI;X-ADDRESS=Heidelberger Straße\, Heil
 bronn-Böckingen\, 74080\, Deutschland;X-APPLE-RADIUS=100;X-TITLE=Friedhof
  Böckingen (Heidelberger Straße):geo:0,0
END:VEVENT
END:VCALENDAR