BEGIN:VCALENDAR
VERSION:2.0
PRODID:-//wp-events-plugin.com//7.2.3.1//EN
TZID:Europe/Berlin
X-WR-TIMEZONE:Europe/Berlin
BEGIN:VEVENT
UID:19518@kirche-boeckingen-klingenberg.de
DTSTART:20251102T104500Z
DTEND:20251102T114500Z
DTSTAMP:20250819T112046Z
URL:https://kirche-boeckingen-klingenberg.de/events/am-gottesdienst-zum-re
 formationsfest-in-der-stadtkirche-pfarrer-dr-rexer
SUMMARY:AM-Gottesdienst zum Reformationsfest in der Stadtkirche - Pfarrer D
 r. Rexer
DESCRIPTION:Evang. Messe
CATEGORIES:Angebote,Gottesdienste,Stadtkirche
LOCATION:Stadtkirche\, Kirchsteige 10\, Heilbronn-Böckingen\, 74080\, Deut
 schland
X-APPLE-STRUCTURED-LOCATION;VALUE=URI;X-ADDRESS=Kirchsteige 10\, Heilbronn-
 Böckingen\, 74080\, Deutschland;X-APPLE-RADIUS=100;X-TITLE=Stadtkirche:ge
 o:0,0
END:VEVENT
END:VCALENDAR