BEGIN:VCALENDAR
VERSION:2.0
PRODID:-//wp-events-plugin.com//7.2.3.1//EN
TZID:Europe/Berlin
X-WR-TIMEZONE:Europe/Berlin
BEGIN:VEVENT
UID:19519@kirche-boeckingen-klingenberg.de
DTSTART:20251102T093000Z
DTEND:20251102T103000Z
DTSTAMP:20250819T112334Z
URL:https://kirche-boeckingen-klingenberg.de/events/am-gottesdienst-zum-re
 formationsfest-in-der-kirche-in-klingenberg-pfarrer-stadler
SUMMARY:AM-Gottesdienst zum Reformationsfest in der Kirche in Klingenberg -
  Pfarrer Stadler
DESCRIPTION:anschl. Kirchenkaffee
CATEGORIES:Angebote,Gottesdienste,Kirche Klingenberg
LOCATION:Kirche Klingenberg\, Kirchgässle 10\, Heilbronn-Klingenberg\, 740
 81\, Deutschland
X-APPLE-STRUCTURED-LOCATION;VALUE=URI;X-ADDRESS=Kirchgässle 10\, Heilbronn
 -Klingenberg\, 74081\, Deutschland;X-APPLE-RADIUS=100;X-TITLE=Kirche Kling
 enberg:geo:0,0
END:VEVENT
END:VCALENDAR