BEGIN:VCALENDAR
VERSION:2.0
PRODID:-//wp-events-plugin.com//7.2.3.1//EN
TZID:Europe/Berlin
X-WR-TIMEZONE:Europe/Berlin
BEGIN:VEVENT
UID:19528@kirche-boeckingen-klingenberg.de
DTSTART:20251119T190000Z
DTEND:20251119T200000Z
DTSTAMP:20251117T123235Z
URL:https://kirche-boeckingen-klingenberg.de/events/am-gottesdienst-mit-de
 n-konfirmandinnen-pfarrerin-siegel-pfarrer-stadler
SUMMARY:AM-Gottesdienst mit den KonfirmandInnen - Diakon Graf/Pfarrerin Sie
 gel am Buß- und Bettag
DESCRIPTION:mit dem Posaunenchor
CATEGORIES:Angebote,Auferstehungskirche,Gottesdienste
LOCATION:Auferstehungskirche\, Sonnenbergstraße 19\, Heilbronn-Böckingen\
 , 74080\, Deutschland
X-APPLE-STRUCTURED-LOCATION;VALUE=URI;X-ADDRESS=Sonnenbergstraße 19\, Heil
 bronn-Böckingen\, 74080\, Deutschland;X-APPLE-RADIUS=100;X-TITLE=Auferste
 hungskirche:geo:0,0
END:VEVENT
END:VCALENDAR