BEGIN:VCALENDAR
VERSION:2.0
PRODID:-//wp-events-plugin.com//7.2.3.1//EN
TZID:Europe/Berlin
X-WR-TIMEZONE:Europe/Berlin
BEGIN:VEVENT
UID:19523@kirche-boeckingen-klingenberg.de
DTSTART:20251115T080000Z
DTEND:20251115T140000Z
DTSTAMP:20250819T113339Z
URL:https://kirche-boeckingen-klingenberg.de/events/altpapiersammlung-des-
 posaunenchors
SUMMARY:Altpapiersammlung des Posaunenchors
DESCRIPTION:in ganz Böckingen
CATEGORIES:Angebote
END:VEVENT
END:VCALENDAR