BEGIN:VCALENDAR
VERSION:2.0
PRODID:-//wp-events-plugin.com//7.2.3.1//EN
TZID:Europe/Berlin
X-WR-TIMEZONE:Europe/Berlin
BEGIN:VEVENT
UID:19730@kirche-boeckingen-klingenberg.de
DTSTART:20251214T173000Z
DTEND:20251214T173000Z
DTSTAMP:20251107T184412Z
URL:https://kirche-boeckingen-klingenberg.de/events/adventsfenster-9
SUMMARY:Adventsfenster
DESCRIPTION:Familie Reumann-Geppert\, Albert-Wagner-Straße 7
ATTACH;FMTTYPE=image/jpeg:https://kirche-boeckingen-klingenberg.de/wp-cont
 ent/uploads/2024/12/Adventsfenster_Hirte.png
END:VEVENT
END:VCALENDAR