BEGIN:VCALENDAR
VERSION:2.0
PRODID:-//wp-events-plugin.com//7.2.3.1//EN
TZID:Europe/Berlin
X-WR-TIMEZONE:Europe/Berlin
BEGIN:VEVENT
UID:14245@kirche-boeckingen-klingenberg.de
DTSTART:20230512T190000Z
DTEND:20230512T190000Z
DTSTAMP:20230214T192745Z
URL:https://kirche-boeckingen-klingenberg.de/events/abendgottesdienst-2023
 -05-12
SUMMARY:Abendgottesdienst
DESCRIPTION:Frau Anding/Frau Pfeiffer
CATEGORIES:Gottesdienste
LOCATION:Versöhnungskirche\, Holunderweg 57\, Heilbronn-Böckingen\, 74080
 \, Deutschland
X-APPLE-STRUCTURED-LOCATION;VALUE=URI;X-ADDRESS=Holunderweg 57\, Heilbronn-
 Böckingen\, 74080\, Deutschland;X-APPLE-RADIUS=100;X-TITLE=Versöhnungski
 rche:geo:0,0
END:VEVENT
END:VCALENDAR